BEGIN:VCALENDAR
VERSION:2.0
METHOD:PUBLISH
X-WR-CALNAME:VFEK |  április 17 2010- április 17 2010
PRODID:-//strange bird labs//Drupal iCal API//EN
BEGIN:VEVENT
DTSTAMP;VALUE=DATE-TIME:20260420T084749Z
DTSTART;VALUE=DATE-TIME:20100402T150000Z
DTEND;VALUE=DATE-TIME:20100506T170000Z
UID:http://portal.vfmk.hu/0111/20100330/1
URL;VALUE=URI:http://portal.vfmk.hu/0111/20100330/1
SUMMARY:Girnt Vilmos kiállítása
DESCRIPTION:<p class=\\"rtecenter\\"><span style=\\"font-family\: Verdana\; \\"><span style=\\"font-size\: small\; \\">&nbsp\;A J&aacute\;sz-Nagykun-Szolnok Megyei<br />
 Verseghy Ferenc K&ouml\;nyvt&aacute\;r &eacute\;s Művelőd&eacute\;si Int&eacute\;zet</span></span></p>
 <p class=\\"rtecenter\\"><span style=\\"font-family\: Verdana\; \\"><span style=\\"font-size\: small\; \\">&eacute\;s a</span></span></p>
 <p class=\\"rtecenter\\"><span style=\\"font-family\: Verdana\; \\"><span style=\\"font-size\: small\; \\">Damjanich M&uacute\;zeum Bar&aacute\;ti K&ouml\;re eln&ouml\;ks&eacute\;ge<br />
 szeretettel megh&iacute\;vja &Ouml\;nt &eacute\;s Bar&aacute\;tait</span></span></p>
 <p class=\\"rtecenter\\"><span style=\\"font-family\: Verdana\; \\"><span style=\\"font-size\: small\; \\"><strong>GIRNT VILMOS</strong><br />
 festőműv&eacute\;sz</span></span></p>
 <p class=\\"rtejustify\\"><span style=\\"font-family\: Verdana\; \\"><span style=\\"font-size\: small\; \\">festm&eacute\;nyeiből rendezett ki&aacute\;ll&iacute\;t&aacute\;sra <strong>2010. &aacute\;prilis 2</strong>-&aacute\;n (p&eacute\;nteken) <strong>16</strong> &oacute\;r&aacute\;ra a k&ouml\;nyvt&aacute\;r első emeleti Műv&eacute\;szeti Szalonj&aacute\;ba (Szolnok\, Kossuth t&eacute\;r 2.)</span></span></p>
 <p class=\\"rtejustify\\"><span style=\\"font-family\: Verdana\; \\"><span style=\\"font-size\: small\; \\">A műv&eacute\;sz munk&aacute\;ss&aacute\;g&aacute\;t m&eacute\;ltatja &eacute\;s a ki&aacute\;ll&iacute\;t&aacute\;st megnyitja\: <strong>Dr. &Iacute\;r&aacute\;s M&aacute\;ty&aacute\;s</strong> a bar&aacute\;ti k&ouml\;r lek&ouml\;sz&ouml\;nt eln&ouml\;ke.<br />
 A festőműv&eacute\;sz k&eacute\;peti elrendezte <em><strong>Hunya Zolt&aacute\;n</strong></em></span></span></p>
 <p class=\\"rtejustify\\"><span style=\\"font-family\: Verdana\; \\"><span style=\\"font-size\: small\; \\">A ki&aacute\;ll&iacute\;t&aacute\;s 2010. m&aacute\;jus 6-ig tekinthető meg a k&ouml\;nyvt&aacute\;r nyitvatart&aacute\;si idej&eacute\;ben.</span></span></p>
 <p class=\\"rtecenter\\"><strong><span style=\\"font-size\: small\; \\"><span style=\\"font-family\: Verdana\; \\"><a target=\\"_blank\\" href=\\"http\://picasaweb.google.hu/karolynora/GirntVilmosFestomuveszKiallitasa?feat=email#\\">K&eacute\;pek a megnyit&oacute\;r&oacute\;l</a></span></span></strong></p>
END:VEVENT
END:VCALENDAR
